BEGIN:VCALENDAR
VERSION:2.0
PRODID:-//Date iCal//NONSGML kigkonsult.se iCalcreator 2.20.2//
METHOD:PUBLISH
X-WR-CALNAME;VALUE=TEXT:UMCES Events
BEGIN:VTIMEZONE
TZID:America/New_York
BEGIN:STANDARD
DTSTART:20181104T020000
TZOFFSETFROM:-0400
TZOFFSETTO:-0500
TZNAME:EST
END:STANDARD
BEGIN:DAYLIGHT
DTSTART:20180311T020000
TZOFFSETFROM:-0500
TZOFFSETTO:-0400
RDATE:20190310T020000
TZNAME:EDT
END:DAYLIGHT
END:VTIMEZONE
BEGIN:VEVENT
UID:calendar.3141.field_date_time.0@www.umces.edu
DTSTAMP:20260421T214438Z
CREATED:20180703T153552Z
DESCRIPTION:September 8\, 2018 1:00pm to 5:00pm    \n    \n      \n\n\n    
 \n\n              \nChesapeake Biological Laboratory\n      \n\n\n\n\n  \n
 \n    \n\n              \n\n\n          \n\n              \n\n    \n\n    
           \n  \n  \n      \n\n          \n  \n  \n\n    \n\n              
 \n\n\nDiscover the world of science on Solomons Island at the Chesapeake B
 iological Laboratory's third annual Open House! This free\, public event p
 rovides a 'behind-the-scenes' view of exciting research and features demon
 strations and exhibits for all ages.\n\n\n\nThe Chesapeake Biological Labo
 ratory is located on Solomons Island at 146 Williams Street\, Solomons MD 
 20688. View a map\n\n\n\nThis exciting event provides a 'behind-the-scenes
 ' view of CBL's research activities and is the only time during the year t
 he labs are open to the public. Exhibits and hands-on activities  include 
 an aquatic animal touch tank\, liquid nitrogen chemistry demonstrations\, 
 dockside tours of the research vessel Rachel Carson\, piloting an underwat
 er robot\, and a scientist selfie station.  \n\n\n\nChildren attending the
  Open House receive a passport activity\, which allows them to earn prizes
  by learning about science as they navigate through CBL's different labs a
 nd experiments. Last year’s Open House was attended by more than 500 peopl
 e. \n\n\n\nFree admission. \n\n      \n\n\n\n    \n\n              \n\n   
    \n\n\n\n    \n\n              \n\n      \n\n\n\n\n\n              \n\n
 \n      \n  \n\n    \n\n              \n\n\n    \n\n\n\n 
DTSTART;TZID=America/New_York:20180908T130000
DTEND;TZID=America/New_York:20180908T170000
LAST-MODIFIED:20180905T214529Z
SUMMARY:Chesapeake Biological Laboratory Open House
URL;TYPE=URI:https://www.umces.edu/events/chesapeake-biological-laboratory-
 open-house
END:VEVENT
END:VCALENDAR
