BEGIN:VCALENDAR
VERSION:2.0
PRODID:-//Date iCal//NONSGML kigkonsult.se iCalcreator 2.20.2//
METHOD:PUBLISH
X-WR-CALNAME;VALUE=TEXT:UMCES Events
BEGIN:VTIMEZONE
TZID:America/New_York
BEGIN:STANDARD
DTSTART:20181104T020000
TZOFFSETFROM:-0400
TZOFFSETTO:-0500
TZNAME:EST
END:STANDARD
BEGIN:DAYLIGHT
DTSTART:20190310T020000
TZOFFSETFROM:-0500
TZOFFSETTO:-0400
TZNAME:EDT
END:DAYLIGHT
END:VTIMEZONE
BEGIN:VEVENT
UID:calendar.3272.field_date_time.0@www.umces.edu
DTSTAMP:20260422T183046Z
CREATED:20180830T192406Z
DESCRIPTION:October 18\, 2018 6:30pm to 8:00pm    \n    \n      \n\n\n    
 \n\n              \nAppalachian Laboratory\n      \n\n\n\n\n  \n\n    \n\n
               \n\n\n          \n\n              \n\n    \n\n              
 \n  \n    \n\n    Photo Credit: US Forest Service   \n\n      \n\n        
   \n  \n  \n\n    \n\n              \n\n\nThe Appalachian Laboratory’s Kat
 ia Engelhardt will present on research efforts to restore the American che
 stnut\, and volunteers from the Citizens Restoring American Chestnuts citi
 zen science project will share their experiences as part of a volunteer ef
 fort supporting American chestnut research. \n\n\n\nWatershed Moments even
 ts are free and open to the public.  Seating is available on a first-come\
 , first served basis. \n\n\n\nFor more information\, visit out Watershed M
 oments website. 
DTSTART;TZID=America/New_York:20181018T183000
DTEND;TZID=America/New_York:20181018T200000
LAST-MODIFIED:20180905T170235Z
SUMMARY:Fall 2018 Watershed Moments Community Learning Series: Restoring th
 e American Chestnut
URL;TYPE=URI:https://www.umces.edu/events/fall-2018-watershed-moments-commu
 nity-learning-series-restoring-american-chestnut
END:VEVENT
END:VCALENDAR
