BEGIN:VCALENDAR
VERSION:2.0
PRODID:-//Date iCal//NONSGML kigkonsult.se iCalcreator 2.20.2//
METHOD:PUBLISH
X-WR-CALNAME;VALUE=TEXT:UMCES Events
BEGIN:VTIMEZONE
TZID:America/New_York
BEGIN:STANDARD
DTSTART:20181104T020000
TZOFFSETFROM:-0400
TZOFFSETTO:-0500
TZNAME:EST
END:STANDARD
BEGIN:DAYLIGHT
DTSTART:20190310T020000
TZOFFSETFROM:-0500
TZOFFSETTO:-0400
TZNAME:EDT
END:DAYLIGHT
END:VTIMEZONE
BEGIN:VEVENT
UID:calendar.3395.field_date_time.0@www.umces.edu
DTSTAMP:20260424T004134Z
CREATED:20181030T194743Z
DESCRIPTION:February 27\, 2019 3:00pm to 4:00pm    \n    \n      \n\n\n    
 \n\n              \nInstitute of Marine & Environmental Technology\n      
 \n\n\n\n\n  \n\n    \n\n              \n\n\n              IMET Seminar: Dr
 . Nilli Zmora Postdoctoral Research Assistant\, Department of Marine Biote
 chnology\, UMBC\n          \n  \n\n    \n\n              \n\n	\n		\n			Speaker: 
 Dr. Nilli Zmora (Postdoctoral Research Assistant\, Department of Marine Bi
 otechnology\, UMBC) \n			\n			Host: Dr. Yantao Li
DTSTART;TZID=America/New_York:20190227T150000
DTEND;TZID=America/New_York:20190227T160000
LAST-MODIFIED:20190117T135754Z
SUMMARY:IMET Seminar: Dr. Nilli Zmora (Postdoctoral Research Assistant\, De
 partment of Marine Biotechnology\, UMBC)
URL;TYPE=URI:https://www.umces.edu/events/imet-seminar-dr-nilli-zmora-postd
 octoral-research-assistant-department-marine-biotechnology
END:VEVENT
END:VCALENDAR
