BEGIN:VCALENDAR
VERSION:2.0
PRODID:-//Date iCal//NONSGML kigkonsult.se iCalcreator 2.20.2//
METHOD:PUBLISH
X-WR-CALNAME;VALUE=TEXT:UMCES Events
BEGIN:VTIMEZONE
TZID:America/New_York
BEGIN:STANDARD
DTSTART:20181104T020000
TZOFFSETFROM:-0400
TZOFFSETTO:-0500
RDATE:20191103T020000
TZNAME:EST
END:STANDARD
BEGIN:DAYLIGHT
DTSTART:20190310T020000
TZOFFSETFROM:-0500
TZOFFSETTO:-0400
TZNAME:EDT
END:DAYLIGHT
END:VTIMEZONE
BEGIN:VEVENT
UID:calendar.3577.field_date_time.0@www.umces.edu
DTSTAMP:20260423T044019Z
CREATED:20190130T120019Z
DESCRIPTION:April 29\, 2019 6:30pm to 7:30pm    \n    \n      \n\n\n    \n
 \n              \nHorn Point Laboratory\n      \n\n\n\n\n  \n\n    \n\n   
            \n\n\n              Science Seminars for Our Community\n       
        \n\n              \n\n    \n\n              \n  \n  \n      \n\n   
        \n  \n  \n\n    \n\n              \n\n\nPlease join us for Science 
 After Hours—talks from Horn Point Laboratory scientists on current environ
 mental topics presented at the Easton Branch of Talbot County Free Library
 \, 100 W. Dover St. \n\n\n\nMonday\, April 29\, 6:30-7:30 p.m.\n\n\n\nDr. 
 Tom Fisher will give a talk titled 'Good news for the Choptank: Improving 
 water quality in the estuary!”\n\n\n\nThe Choptank estuary station near th
 e Rt 50 bridge is showing improvements in water quality primarily due to u
 pgrades in wastewater plants in the Choptank Basin\, but that is not the w
 hole picture.  Join us to explore the many factors impacting improvements 
 in water quality in the Choptank estuary. \n\n\n\nRegister online or conta
 ct Carin Starr at cstarr@umces.edu or 410-221-8408.
DTSTART;TZID=America/New_York:20190429T183000
DTEND;TZID=America/New_York:20190429T193000
LAST-MODIFIED:20190422T203733Z
SUMMARY:Science After Hours: Good news for the Choptank - Improving water q
 uality in the estuary
URL;TYPE=URI:https://www.umces.edu/events/science-after-hours-good-news-cho
 ptank-improving-water-quality-estuary
END:VEVENT
END:VCALENDAR
