BEGIN:VCALENDAR
VERSION:2.0
PRODID:-//Date iCal//NONSGML kigkonsult.se iCalcreator 2.20.2//
METHOD:PUBLISH
X-WR-CALNAME;VALUE=TEXT:UMCES Events
BEGIN:VTIMEZONE
TZID:America/New_York
BEGIN:STANDARD
DTSTART:20181104T020000
TZOFFSETFROM:-0400
TZOFFSETTO:-0500
RDATE:20191103T020000
TZNAME:EST
END:STANDARD
BEGIN:DAYLIGHT
DTSTART:20190310T020000
TZOFFSETFROM:-0500
TZOFFSETTO:-0400
TZNAME:EDT
END:DAYLIGHT
END:VTIMEZONE
BEGIN:VEVENT
UID:calendar.3636.field_date_time.0@www.umces.edu
DTSTAMP:20260423T175958Z
CREATED:20190212T214634Z
DESCRIPTION:April 2\, 2019 7:00pm to 8:00pm    \n    \n      \n\n\n    \n\n
               \nChesapeake Biological Laboratory\n      \n\n\n\n\n  \n\n  
   \n\n              \n\n\n              Tiny Bubbles Mentoring: A hands-on
  research experience for community college STEM students\n              \n
 \n              \n\n    \n\n              \n  \n  \n      \n\n          \n
   \n  \n\n    \n\n              \n\n\nPresented by Dr. Laura Lapham\n\n\n
 \nDid you know that STEM students at community colleges are less likely to
  finish a 4-year STEM degree than STEM students who start at a 4-year coll
 ege?  The good news is that exposure to STEM activities in the students’ f
 irst year could increase their chances of finishing this STEM degree by 59
 %!  Come hear about an exciting new program that encourages students at th
 e College of Southern Maryland to get involved in STEM.  \n\n\n\nWhere: CB
 L’s Bernie Fowler Lab\, 142 Williams Street\, Solomons\, MD 20688. View a 
 campus map.\nCost: Free. No pre-registration necessary. Seating is availab
 le on a first-come\, first-served basis.\nWho: Members of the general publ
 ic. No scientific background needed\; everyone is welcome!\nWhy: Learn som
 ething new and interesting while celebrating science on scenic Solomons Is
 land\n\n\n\nThis seminar is presented as a part of the Chesapeake Biologic
 al Laboraotyr's Science for Citizens Seminar Series.  These public seminar
 s invite the community to discover how our scientists are developing new a
 pproaches to solving the environmental challenges facing Southern Maryland
 \, our nation\, and the world. View the complete Spring 2019 Science for C
 itizens Seminar schedule.
DTSTART;TZID=America/New_York:20190402T190000
DTEND;TZID=America/New_York:20190402T200000
LAST-MODIFIED:20190221T213912Z
SUMMARY:Science for Citizens: Tiny Bubbles Mentoring
URL;TYPE=URI:https://www.umces.edu/events/science-citizens-tiny-bubbles-men
 toring
END:VEVENT
END:VCALENDAR
