BEGIN:VCALENDAR
VERSION:2.0
PRODID:-//Date iCal//NONSGML kigkonsult.se iCalcreator 2.20.2//
METHOD:PUBLISH
X-WR-CALNAME;VALUE=TEXT:UMCES Events
BEGIN:VTIMEZONE
TZID:America/New_York
BEGIN:STANDARD
DTSTART:20181104T020000
TZOFFSETFROM:-0400
TZOFFSETTO:-0500
RDATE:20191103T020000
TZNAME:EST
END:STANDARD
BEGIN:DAYLIGHT
DTSTART:20190310T020000
TZOFFSETFROM:-0500
TZOFFSETTO:-0400
TZNAME:EDT
END:DAYLIGHT
END:VTIMEZONE
BEGIN:VEVENT
UID:calendar.3637.field_date_time.0@www.umces.edu
DTSTAMP:20260420T132058Z
CREATED:20190212T221643Z
DESCRIPTION:April 16\, 2019 7:00pm to 8:00pm    \n    \n      \n\n\n    \n
 \n              \nChesapeake Biological Laboratory\n      \n\n\n\n\n  \n\n
     \n\n              \n\n\n          \n\n              \n\n    \n\n      
         \n  \n  \n      \n\n          \n  \n  \n\n    \n\n              \n
 \n\nPresented by Dr. Suzan Shahrestani \n\n\n\nTaking science innovation t
 o the global market  can be highly rewarding but also incredibly challengi
 ng. While scientists are welcomed into the entrepreneurial world as subjec
 t matter experts\, they face a steep learning curve when it comes to under
 standing commercialization. Dr. Shahrestani\, a recent graduate of UMCES C
 BL\, will discuss her journey from student to start-up founder\, and how h
 er education gave her skills well suited for the aquaculture industry and 
 opportunities for innovation. \n\n\n\nWhere: CBL’s Bernie Fowler Lab\, 142
  Williams Street\, Solomons\, MD 20688. View a campus map.\nCost: Free. No
  pre-registration necessary. Seating is available on a first-come\, first-
 served basis.\nWho: Members of the general public. No scientific backgroun
 d needed\; everyone is welcome!\nWhy: Learn something new and interesting 
 while celebrating science on scenic Solomons Island\n\n\n\nThis seminar is
  presented as a part of the Chesapeake Biological Laboraotyr's Science for
  Citizens Seminar Series.  These public seminars invite the community to d
 iscover how our scientists are developing new approaches to solving the en
 vironmental challenges facing Southern Maryland\, our nation\, and the wor
 ld. View the complete Spring 2019 Science for Citizens Seminar schedule.
DTSTART;TZID=America/New_York:20190416T190000
DTEND;TZID=America/New_York:20190416T200000
LAST-MODIFIED:20190308T210458Z
SUMMARY:Science for Citizens: Embracing Uncertainty-From scientist to entre
 preneur
URL;TYPE=URI:https://www.umces.edu/events/science-citizens-embracing-uncert
 ainty-scientist-entrepreneur
END:VEVENT
END:VCALENDAR
