BEGIN:VCALENDAR
VERSION:2.0
PRODID:-//Date iCal//NONSGML kigkonsult.se iCalcreator 2.20.2//
METHOD:PUBLISH
X-WR-CALNAME;VALUE=TEXT:UMCES Events
BEGIN:VTIMEZONE
TZID:America/New_York
BEGIN:STANDARD
DTSTART:20181104T020000
TZOFFSETFROM:-0400
TZOFFSETTO:-0500
TZNAME:EST
END:STANDARD
BEGIN:DAYLIGHT
DTSTART:20190310T020000
TZOFFSETFROM:-0500
TZOFFSETTO:-0400
TZNAME:EDT
END:DAYLIGHT
END:VTIMEZONE
BEGIN:VEVENT
UID:calendar.3677.field_date_time.0@www.umces.edu
DTSTAMP:20260424T000009Z
CREATED:20190228T001336Z
DESCRIPTION:March 26\, 2019 11:00am to 12:00pm    \n    \n      \n\n\n    
 \n\n              \nHorn Point Laboratory
DTSTART;TZID=America/New_York:20190326T110000
DTEND;TZID=America/New_York:20190326T120000
LAST-MODIFIED:20190308T205912Z
SUMMARY:Horn Point Seminars: Jillian Bible\, Washington College
URL;TYPE=URI:https://www.umces.edu/events/horn-point-seminars-jillian-bible
 -washington-college
END:VEVENT
END:VCALENDAR
