BEGIN:VCALENDAR
VERSION:2.0
PRODID:-//Date iCal//NONSGML kigkonsult.se iCalcreator 2.20.2//
METHOD:PUBLISH
X-WR-CALNAME;VALUE=TEXT:UMCES Events
BEGIN:VTIMEZONE
TZID:America/New_York
BEGIN:STANDARD
DTSTART:20191103T020000
TZOFFSETFROM:-0400
TZOFFSETTO:-0500
TZNAME:EST
END:STANDARD
BEGIN:DAYLIGHT
DTSTART:20200308T020000
TZOFFSETFROM:-0500
TZOFFSETTO:-0400
TZNAME:EDT
END:DAYLIGHT
END:VTIMEZONE
BEGIN:VEVENT
UID:calendar.4680.field_date_time.0@www.umces.edu
DTSTAMP:20260419T161934Z
CREATED:20190822T182221Z
DESCRIPTION:October 24\, 2019 3:30pm to 4:30pm    \n    \n      \n\n\n    
 \n\n              \nAppalachian Laboratory\n      \n\n\n\n\n  \n\n    \n\n
               \n\n\n          \n\n              \n\n    \n\n              
 \n  \n  \n      \n\n          \n  \n  \n\n    \n\n              \n\n\nDr. 
 David Smith\, USGS\, will present 'Collaborative structured decision makin
 g: finding durable and optimal solutions' as part of the Appalachian Labor
 atory's Visiting Scholar Seminar Series.  To learn more about Dr. Smith's 
 work\, visit his research website.  \n\n\nSeminar description: \n\n\nColla
 borative problem solving in natural resources is challenging because of co
 nflicting values\, uncertain knowledge\, and the time required for effecti
 ve communication. But application of decision analysis and structured deci
 sion making in collaborative settings can help find ways for human activit
 y and ecological processes to coexist by identifying durable and optimal s
 olutions.  In this talk\, I discuss collaborative decision-making processe
 s at the interface of conflict resolution and decision analysis as applied
  to natural resource management. I illustrate the processes with examples 
 and present a series of key considerations useful for preparing a group fo
 r successful collaborative decision making.  \n\n\n \n\n\nThe full Visitin
 g Scholar Seminar Series can be found on the seminar website. \n\n\n\n 
DTSTART;TZID=America/New_York:20191024T153000
DTEND;TZID=America/New_York:20191024T163000
LAST-MODIFIED:20190822T182515Z
SUMMARY:Visiting Scholar Seminar Series: David Smith\, USGS
URL;TYPE=URI:https://www.umces.edu/events/visiting-scholar-seminar-series-d
 avid-smith-usgs
END:VEVENT
END:VCALENDAR
