BEGIN:VCALENDAR
VERSION:2.0
PRODID:-//Date iCal//NONSGML kigkonsult.se iCalcreator 2.20.2//
METHOD:PUBLISH
X-WR-CALNAME;VALUE=TEXT:UMCES Events
BEGIN:VTIMEZONE
TZID:America/New_York
BEGIN:STANDARD
DTSTART:20191103T020000
TZOFFSETFROM:-0400
TZOFFSETTO:-0500
TZNAME:EST
END:STANDARD
BEGIN:DAYLIGHT
DTSTART:20190310T020000
TZOFFSETFROM:-0500
TZOFFSETTO:-0400
RDATE:20200308T020000
TZNAME:EDT
END:DAYLIGHT
END:VTIMEZONE
BEGIN:VEVENT
UID:calendar.4741.field_date_time.0@www.umces.edu
DTSTAMP:20260422T083547Z
CREATED:20190909T225919Z
DESCRIPTION:September 12\, 2019 10:00am to 11:00pm    \n    \n      \n\n\n 
    \n\n              \nHorn Point Laboratory
DTSTART;TZID=America/New_York:20190912T100000
DTEND;TZID=America/New_York:20190912T230000
LAST-MODIFIED:20190909T230030Z
SUMMARY:HPL Special Seminar\, Joe Tamborski
URL;TYPE=URI:https://www.umces.edu/events/hpl-special-seminar-joe-tamborski
END:VEVENT
END:VCALENDAR
