BEGIN:VCALENDAR
VERSION:2.0
PRODID:-//Date iCal//NONSGML kigkonsult.se iCalcreator 2.20.2//
METHOD:PUBLISH
X-WR-CALNAME;VALUE=TEXT:UMCES Events
BEGIN:VTIMEZONE
TZID:America/New_York
BEGIN:STANDARD
DTSTART:20191103T020000
TZOFFSETFROM:-0400
TZOFFSETTO:-0500
TZNAME:EST
END:STANDARD
BEGIN:DAYLIGHT
DTSTART:20200308T020000
TZOFFSETFROM:-0500
TZOFFSETTO:-0400
TZNAME:EDT
END:DAYLIGHT
END:VTIMEZONE
BEGIN:VEVENT
UID:calendar.4795.field_date_time.0@www.umces.edu
DTSTAMP:20260426T035256Z
CREATED:20190925T144807Z
DESCRIPTION:November 7\, 2019 6:30pm to 8:00pm    \n    \n      \n\n\n    
 \n\n              \nAppalachian Laboratory\n      \n\n\n\n\n  \n\n    \n\n
               \n\n\n              Thursday\, November 7\, See scheduled to
 ur times\, Appalachian Laboratory\n              \n\n              \n\n   
  \n\n              \n  \n  \n      \n\n          \n  \n  \n\n    \n\n     
          \n\n\nDue to low registration\, this event has been cancelled.  P
 lease check our website for updates on future Watershed Moments events. 
DTSTART;TZID=America/New_York:20191107T183000
DTEND;TZID=America/New_York:20191107T200000
LAST-MODIFIED:20191105T180301Z
SUMMARY:Watershed Moments: Lab after hours guided tour- Cancelled
URL;TYPE=URI:https://www.umces.edu/events/watershed-moments-lab-after-hours
 -guided-tour-cancelled
END:VEVENT
END:VCALENDAR
