BEGIN:VCALENDAR
VERSION:2.0
PRODID:-//Date iCal//NONSGML kigkonsult.se iCalcreator 2.20.2//
METHOD:PUBLISH
X-WR-CALNAME;VALUE=TEXT:UMCES Events
BEGIN:VTIMEZONE
TZID:America/New_York
BEGIN:STANDARD
DTSTART:20161106T020000
TZOFFSETFROM:-0400
TZOFFSETTO:-0500
TZNAME:EST
END:STANDARD
BEGIN:DAYLIGHT
DTSTART:20170312T020000
TZOFFSETFROM:-0500
TZOFFSETTO:-0400
TZNAME:EDT
END:DAYLIGHT
END:VTIMEZONE
BEGIN:VEVENT
UID:calendar.567.field_date_time.0@www.umces.edu
DTSTAMP:20260424T114014Z
CREATED:20170109T224451Z
DESCRIPTION:March 1\, 2017 3:30pm to 5:00pm    \n    \n      \n\n\n    \n\n
               \nChesapeake Biological Laboratory\n      \n\n\n\n\n  \n\n  
   \n\n              \n\n\n      \n  \n\n    \n\n              \n\n\nJim Be
 nce\, a professor and co-director at the Quantitative Fisheries Center at 
 Michigan State University will be visiting from East Lansing\, Michigan to
  host a public presentation at our lab as part of the Distinguished Schola
 r Seminar Series. This seminar will be held in the Bernie Fowler Laborator
 y\, Room\, 1101.
DTSTART;TZID=America/New_York:20170301T153000
DTEND;TZID=America/New_York:20170301T170000
LAST-MODIFIED:20170117T184849Z
SUMMARY:Distinguished Scholar: Jim Bence
URL;TYPE=URI:https://www.umces.edu/events/distinguished-scholar-jim-bence
END:VEVENT
END:VCALENDAR
